BEGIN:VCALENDAR
VERSION:2.0
PRODID:-//wp-events-plugin.com//5.99912//EN
TZID:Europe/Berlin
X-WR-TIMEZONE:Europe/Berlin
BEGIN:VEVENT
UID:7-11321@wege.albverein.net
DTSTART;TZID=Europe/Berlin:20260519T180000
DTEND;TZID=Europe/Berlin:20260519T190000
DTSTAMP:20260309T081720Z
URL:https://wege.albverein.net/events/digitale-einfuehrung-in-den-naturspo
 rtplaner-fuer-hinweisgeber-2/
SUMMARY:Digitale Einführung in den Natursportplaner für Hinweisgeber
DESCRIPTION:Digitale Einführung in den Natursportplaner für Wegewarte und
  Wegepaten\n\n19.05.2026\, 18:00 Uhr bis 19:00 Uhr\n\nLeitung: Manfred Hei
 nrichs (Fachwart für Wege im Zoller-Gau)\n\nAnmeldung: Manfred_Heinrichs@
 t-online.de
CATEGORIES:Wege
END:VEVENT
BEGIN:VTIMEZONE
TZID:Europe/Berlin
X-LIC-LOCATION:Europe/Berlin
BEGIN:DAYLIGHT
DTSTART:20260329T030000
TZOFFSETFROM:+0100
TZOFFSETTO:+0200
TZNAME:CEST
END:DAYLIGHT
END:VTIMEZONE
END:VCALENDAR